BEGIN:VCALENDAR
VERSION:2.0
PRODID:-//Plone.org//NONSGML plone.app.event//EN
X-WR-TIMEZONE:Europe/Vienna
BEGIN:VEVENT
SUMMARY:Südliches Burgenland
DTSTART;VALUE=DATE:20260618
DTEND;VALUE=DATE:20260620
DTSTAMP;VALUE=DATE-TIME:20260423T011551Z
UID:9f7b0cd93aad4c8f99c7f1ac75a76c62@aaf-live-raw.web.kup.tirol
CATEGORIES:Exkursion
CREATED;VALUE=DATE-TIME:20260331T115955Z
DESCRIPTION:Auf ins Südburgenland! Unsere zweitägige Busexkursion führt
  uns zu spannenden aktuellen Bauprojekten und ausgewählten Highlights.
LAST-MODIFIED;VALUE=DATE-TIME:20260408T120306Z
LOCATION:Treffpunkt: 7.00 Uhr \nBusterminal Nonntal\nErzabt-Klotz-Straße 
 6a\n5020 Salzburg
URL:https://initiativearchitektur.at/kalender/burgenland
END:VEVENT
END:VCALENDAR
