BEGIN:VCALENDAR
VERSION:2.0
PRODID:-//Plone.org//NONSGML plone.app.event//EN
X-WR-TIMEZONE:Europe/Vienna
BEGIN:VEVENT
SUMMARY:WOODEN STRUCTURES
DTSTART;VALUE=DATE:20260417
DTEND;VALUE=DATE:20260801
DTSTAMP;VALUE=DATE-TIME:20260425T143437Z
UID:6fecb38041cc456a80b0edb677555a89@aaf-live-raw.web.kup.tirol
CATEGORIES:AT26,Ausstellung
CREATED;VALUE=DATE-TIME:20260313T150825Z
DESCRIPTION:Eine Ausstellung\, die das Zusammenspiel innovativer Holzwerks
 toffe\, neuer Konstruktionsmethoden und handwerklicher Präzision in beein
 druckenden baulichen Strukturen zeigt.
GEO:47.79496602651422;13.030600547790527
LAST-MODIFIED;VALUE=DATE-TIME:20260423T083732Z
LOCATION;ALTREP="https://initiativearchitektur.at/lib/adressbuch/architekt
 urhaus-salzburg":Architekturhaus Salzburg\, Sinnhubstraße 3\, 5020 Salzbu
 rg\, Österreich
URL:https://initiativearchitektur.at/kalender/wooden-structures
END:VEVENT
END:VCALENDAR
